BEGIN:VCALENDAR
PRODID:-//eluceo/ical//2.0/EN
VERSION:2.0
CALSCALE:GREGORIAN
BEGIN:VEVENT
UID:event-1031
DTSTAMP:20260421T083034Z
SUMMARY:Leeghwaterlunch
DESCRIPTION:Donderdag 15 januari vindt weer de Leeghwaterlunch plaats! Ko
 m en krijg een gratis lunch! Kom lekker langs met je (studie)vrienden. 
 Meld je wel even aan\, anders hebben we straks te weinig eten voor je.
DTSTART:20260115T114500Z
DTEND:20260115T123000Z
LOCATION:'t Lagerhuysch
END:VEVENT
BEGIN:VTIMEZONE
TZID:UTC
BEGIN:STANDARD
DTSTART:20260115T114500
TZNAME:UTC
TZOFFSETTO:+0000
TZOFFSETFROM:+0000
END:STANDARD
END:VTIMEZONE
END:VCALENDAR
