BEGIN:VCALENDAR
PRODID:-//eluceo/ical//2.0/EN
VERSION:2.0
CALSCALE:GREGORIAN
BEGIN:VEVENT
UID:event-1048
DTSTAMP:20260420T013122Z
SUMMARY:Case Orde van Octrooigemachtigden
DESCRIPTION:Tijdens deze activiteit ga je aan de slag met een korte casus u
 it de praktijk van het octrooirecht\, gebaseerd op een voorbeeld van de Or
 de van Octrooigemachtigden. In deze case staat een situatie centraal waari
 n een patent mogelijk op onjuiste wijze wordt gebruikt. Samen analyseren w
 e wat er gebeurt wanneer een octrooi verkeerd wordt toegepast of wordt ing
 ezet om concurrenten te blokkeren zonder geldige basis. Zo krijg je inzich
 t in hoe technische inhoud en juridische interpretatie samenkomen bij het 
 beoordelen van patenten.
DTSTART:20260429T073000Z
DTEND:20260429T103000Z
LOCATION:'t Lagerhuysch
END:VEVENT
BEGIN:VTIMEZONE
TZID:UTC
BEGIN:STANDARD
DTSTART:20260429T073000
TZNAME:UTC
TZOFFSETTO:+0000
TZOFFSETFROM:+0000
END:STANDARD
END:VTIMEZONE
END:VCALENDAR
