BEGIN:VCALENDAR
PRODID:-//eluceo/ical//2.0/EN
VERSION:2.0
CALSCALE:GREGORIAN
BEGIN:VEVENT
UID:event-260
DTSTAMP:20260419T130714Z
SUMMARY:Solidworks cursus
DESCRIPTION:Heb jij jezelf klaar gestoomd voor het SolidWorks examen? Wil j
 e net even dat extra steuntje in je rug?  Kom dan naar de SolidWorks curs
 us! Je zal samen met 29 anderen het examen gaan maken\, onder begeleiding 
 van niemand anders dan Hugo Schravesande\, de SolidWorks expert! Het is de
  bedoeling dat je de basiskennis onder de knie hebt. Hugo gaat je helpen m
 et het tentamen\, hij gaat het niet voor je maken. De cursus zal beginnen 
 met een oefenopgave en daarna zal je het tentamen maken. Mocht je dan vrag
 en hebben dan kan Hugo je helpen. Neem een laptop mee met Solidworks gein
 stalleerd!  De 5 euro inschrijf kosten is een borg. Dit betekent dat je
  de 5 euro terug krijgt als je naar de cursus komt!  
DTSTART:20191218T124500Z
DTEND:20191218T163000Z
LOCATION:Pulse zaal 7
END:VEVENT
BEGIN:VTIMEZONE
TZID:UTC
BEGIN:STANDARD
DTSTART:20191218T124500
TZNAME:UTC
TZOFFSETTO:+0000
TZOFFSETFROM:+0000
END:STANDARD
END:VTIMEZONE
END:VCALENDAR
