BEGIN:VCALENDAR
PRODID:-//eluceo/ical//2.0/EN
VERSION:2.0
CALSCALE:GREGORIAN
BEGIN:VEVENT
UID:event-282
DTSTAMP:20260425T112747Z
SUMMARY:Inschrijfdeadline Traineeship boskalis (gesponsord)
DESCRIPTION:Make your mark as Trainee at Boskalis Boskalis offers you the o
 pportunity to make your mark as Trainee and realize solutions for today’
 s challenges. Working at Boskalis is about creating new horizons and susta
 inable solutions. In a world where population growth\, increase of global 
 trade\, demand for (new) energy and climate change are driving forces\, we
  challenge you as Trainee to make your mark in finding innovative and rele
 vant solutions for complex infrastructural and marine projects in a sustai
 nable way. As part of a diverse\, (inter)national team of experts\, we wil
 l continuously ask you to make an impact. Impact aimed at both projects as
  well as your personal and professional development. Therefore\, you can c
 ount on an 18-months extensive training program. We offer you the opportun
 ity to realize your potential and expand your professional career by creat
 ing new horizons. Together. Curious about what some of our current trainee
 s have to say about our Traineeship? Please check the testimonials of Patr
 ick Bollen and Jorrit van Rhijn. Interested to become a Trainee? Check the
  careers site for more information\, apply before February 24th\, and conv
 ince us during the selection event on May 15th that you’ve got what it t
 akes to join the Boskalis Traineeship.
DTSTART:20200222T230000Z
DTEND:20200223T225959Z
END:VEVENT
BEGIN:VTIMEZONE
TZID:UTC
BEGIN:STANDARD
DTSTART:20200222T230000
TZNAME:UTC
TZOFFSETTO:+0000
TZOFFSETFROM:+0000
END:STANDARD
END:VTIMEZONE
END:VCALENDAR
