BEGIN:VCALENDAR
PRODID:-//eluceo/ical//2.0/EN
VERSION:2.0
CALSCALE:GREGORIAN
BEGIN:VEVENT
UID:event-401
DTSTAMP:20260421T051855Z
SUMMARY:Excursie Veth & Activiteit
DESCRIPTION:Excursie naar Veth! Woensdag 26  mei gaan we op een Vet(h)te e
 xcursie! De dag bestaat uit een vol programma. 's Ochtends zullen wij na
  een lekker ontbijtje het bedrijf Veth bezoeken\, een bedrijf gespecialise
 erd in voorstuwinginstallaties op grote schepen. Hier zul je een rondleidi
 ng krijgen door hun productielocatie. Na de lunch zullen we in de middag e
 en leuke activiteit hebben. De dag sluiten we af met een lekkere maaltijd 
 in Delft.  Lijkt jou het leuk om deze excursie mee te maken en een kijkje
  te nemen bij een werktuigbouwkundig bedrijf? Schrijf je dan in! De gehele
  excursie zal volgens de geldende RIVM richtlijnen georganiseerd worden. B
 ij de Excursie is het volgende inbegrepen: Busvervoer naar Veth en activit
 eit Leuke middagactiviteit Ontbijt Lunch Avondeten Afsluitende borrel
DTSTART:20210526T070000Z
DTEND:20210526T160000Z
END:VEVENT
BEGIN:VTIMEZONE
TZID:UTC
BEGIN:STANDARD
DTSTART:20210526T070000
TZNAME:UTC
TZOFFSETTO:+0000
TZOFFSETFROM:+0000
END:STANDARD
END:VTIMEZONE
END:VCALENDAR
