BEGIN:VCALENDAR
PRODID:-//eluceo/ical//2.0/EN
VERSION:2.0
CALSCALE:GREGORIAN
BEGIN:VEVENT
UID:event-434
DTSTAMP:20260421T152228Z
SUMMARY:Algemene Leden Vergadering 1
DESCRIPTION:Op donderdag 21 oktober zal de eerste ALV van het jaar plaatsvi
 nden. Deze vindt plaats in 't Lagerhuysch en zal om 17:00 uur starten.
DTSTART:20211021T150000Z
DTEND:20211021T190000Z
END:VEVENT
BEGIN:VTIMEZONE
TZID:UTC
BEGIN:STANDARD
DTSTART:20211021T150000
TZNAME:UTC
TZOFFSETTO:+0000
TZOFFSETFROM:+0000
END:STANDARD
END:VTIMEZONE
END:VCALENDAR
