BEGIN:VCALENDAR
PRODID:-//eluceo/ical//2.0/EN
VERSION:2.0
CALSCALE:GREGORIAN
BEGIN:VEVENT
UID:event-488
DTSTAMP:20260426T021930Z
SUMMARY:The Green Initiative
DESCRIPTION:In samenwerking met Froude\, Variscopic en GreenME organiseert
  Gezelschap Leeghwater een dag in het kader van duurzaamheid. Wil jij wete
 n welke geniale\, duurzame ideeën startups hebben of hoe jij op dit momen
 t kan verduurzamen? Kom dan vooral langs in de collegegang van 3mE. Het vo
 lledige programma van de dag wordt binnenkort bekend gemaakt.  P.S. wist 
 je dat niet alleen 3mE op deze dag een duurzaamheidsdag organiseert? Op el
 ke faculteit over de gehele campus zullen er activiteiten georganiseerd wo
 rden. 
DTSTART:20220323T073000Z
DTEND:20220323T164500Z
END:VEVENT
BEGIN:VTIMEZONE
TZID:UTC
BEGIN:STANDARD
DTSTART:20220323T073000
TZNAME:UTC
TZOFFSETTO:+0000
TZOFFSETFROM:+0000
END:STANDARD
END:VTIMEZONE
END:VCALENDAR
