BEGIN:VCALENDAR
PRODID:-//eluceo/ical//2.0/EN
VERSION:2.0
CALSCALE:GREGORIAN
BEGIN:VEVENT
UID:event-681
DTSTAMP:20260423T081702Z
SUMMARY:Inhousedag Fokker
DESCRIPTION:Kom naar de Inhousedag bij Fokker 29 november! Als Independent
  Aerospace Service Provider biedt Fokker op maat gemaakte oplossingen voo
 r regionale\, commerciële en militaire vliegtuigen. Van het leveren van o
 nderdelen en het aanbieden van uitwisselingsprogramma's tot component MRO 
 en modificatieprogramma's\, ze streven ernaar hun klanten niets dan uitmun
 tendheid te bieden in alles\, van engineering tot klantenservice. Met éé
 n doel: vliegtuigen houden waar ze horen\, in de lucht. We verzamelen 29 n
 ovember op station Delft\, om 8:30. De dresscode is business casual\, hou 
 hier rekening mee! Tot dan!  
DTSTART:20231129T090000Z
DTEND:20231129T150000Z
LOCATION:Fokker Technologies B.V.
END:VEVENT
BEGIN:VTIMEZONE
TZID:UTC
BEGIN:STANDARD
DTSTART:20231129T090000
TZNAME:UTC
TZOFFSETTO:+0000
TZOFFSETFROM:+0000
END:STANDARD
END:VTIMEZONE
END:VCALENDAR
