BEGIN:VCALENDAR
PRODID:-//eluceo/ical//2.0/EN
VERSION:2.0
CALSCALE:GREGORIAN
BEGIN:VEVENT
UID:event-712
DTSTAMP:20260419T143628Z
SUMMARY:Open schaatsbaan voor 3me
DESCRIPTION:Verjaardagen zijn een goede reden voor een feestje! Op 18 decem
 ber vieren we het jubileum van Gezelschap Leeghwater met een groots Winter
  Wonderland. Kom gezellig langs en geniet van gratis schaatsen\, warme cho
 colademelk en vanaf 17.00 uur een glas warme Glühwein. We kijken ernaar u
 it om je te verwelkomen! Een ticket kopen is niet nodig. Er is dus ook gee
 n reservering van plekken.      
DTSTART:20231218T110000Z
DTEND:20231218T210000Z
LOCATION:Fietstalling voor 3mE
END:VEVENT
BEGIN:VTIMEZONE
TZID:UTC
BEGIN:STANDARD
DTSTART:20231218T110000
TZNAME:UTC
TZOFFSETTO:+0000
TZOFFSETFROM:+0000
END:STANDARD
END:VTIMEZONE
END:VCALENDAR
