BEGIN:VCALENDAR
PRODID:-//eluceo/ical//2.0/EN
VERSION:2.0
CALSCALE:GREGORIAN
BEGIN:VEVENT
UID:event-895
DTSTAMP:20260421T083534Z
SUMMARY:Lunchlezing Multi Machine Engineering - KLM
DESCRIPTION:Wil jij weten wat er moet gebeuren om een vliegtuig klaar te ma
 ken voor vertrek? Kom naar de lunchlezing van de MSc track Multi-Machine E
 ngineering en KLM Ground Services! Een projectmanager van KLM Ground Servi
 ces en tevens alumnus van Multi-Machine Engineering geeft een uniek kijkje
  in de voertuigen\, de logistieke uitdagingen en de organisatie van de dag
 elijkse operatie op Schiphol. Daarnaast legt hij uit hoe hij de inhoud van
  de master toegepast heeft in zijn afstudeerproject bij KLM.  Geïnteress
 eerd? Kom meer te weten over deze Master! Als je je inschrijft krijg je oo
 k nog eens een gratis Broodje Delft! 
DTSTART:20241126T114500Z
DTEND:20241126T123000Z
LOCATION:Zaal A
END:VEVENT
BEGIN:VTIMEZONE
TZID:UTC
BEGIN:STANDARD
DTSTART:20241126T114500
TZNAME:UTC
TZOFFSETTO:+0000
TZOFFSETFROM:+0000
END:STANDARD
END:VTIMEZONE
END:VCALENDAR
